BEGIN:VCALENDAR
PRODID:-//Events Calendar//iCal4j 1.0//EN
CALSCALE:GREGORIAN
BEGIN:VEVENT
DTSTAMP:20260423T144956Z
DTSTART:20260502T000000
DTEND:20260502T235900
SUMMARY:🌟 MARIE DENIGOT DE DALS A STEEL LE 02/05 ! 
UID:4dd035a1-ffe5-4126-a354-73541ebda9de
END:VEVENT
END:VCALENDAR
