BEGIN:VCALENDAR
PRODID:-//Events Calendar//iCal4j 1.0//EN
CALSCALE:GREGORIAN
BEGIN:VEVENT
DTSTAMP:20260423T144956Z
DTSTART:20260418T000000
DTEND:20260418T235900
SUMMARY:JOURNEE DECOUVERTE METIERS ARMEES !
UID:7256a1c9-aa58-49d0-a40e-844757944546
END:VEVENT
END:VCALENDAR
