BEGIN:VCALENDAR
PRODID:-//Events Calendar//iCal4j 1.0//EN
CALSCALE:GREGORIAN
BEGIN:VEVENT
DTSTAMP:20260423T144439Z
DTSTART:20260327T000000
DTEND:20260327T235900
SUMMARY:LABELS SAVEURS
UID:9256ec36-a48f-42f6-950a-feb65deae7ed
END:VEVENT
END:VCALENDAR
