BEGIN:VCALENDAR
PRODID:-//Events Calendar//iCal4j 1.0//EN
CALSCALE:GREGORIAN
BEGIN:VEVENT
DTSTAMP:20260423T190014Z
DTSTART:20260325T000000
DTEND:20260325T235900
SUMMARY:🌱 PARTICIPEZ A LA CREATION D'UNE MICROFORÊT AU COEUR DE STEEL ! ✨
UID:9c1025b3-5ac3-4793-a3ba-f4d7028fe96e
END:VEVENT
END:VCALENDAR
