BEGIN:VCALENDAR
PRODID:-//Events Calendar//iCal4j 1.0//EN
CALSCALE:GREGORIAN
BEGIN:VEVENT
DTSTAMP:20260423T155221Z
DTSTART:20250307T150000
DTEND:20250307T170000
SUMMARY:🌟 50 ans Décathlon : Un concours de tirs basketball  ! 🌟
UID:339f6aed-c0f8-4cb2-9c69-e3767ac41023
END:VEVENT
END:VCALENDAR
