BEGIN:VCALENDAR
PRODID:-//Events Calendar//iCal4j 1.0//EN
CALSCALE:GREGORIAN
BEGIN:VEVENT
DTSTAMP:20260423T185934Z
DTSTART:20260301T000000
DTEND:20260301T235900
SUMMARY:✨EN MARS\, FAITES BATTRE VOTRE CŒUR POUR UNE BELLE CAUSE AVEC MOA✨
UID:d54d5201-bd67-433d-8f8b-eb6ca91b176c
END:VEVENT
END:VCALENDAR
